BEGIN:VCALENDAR
VERSION:2.0
PRODID:-//Heidter Bürgerverein e.V. - ECPv6.15.17//NONSGML v1.0//EN
CALSCALE:GREGORIAN
METHOD:PUBLISH
X-ORIGINAL-URL:https://hbv-wuppertal.de
X-WR-CALDESC:Veranstaltungen für Heidter Bürgerverein e.V.
REFRESH-INTERVAL;VALUE=DURATION:PT1H
X-Robots-Tag:noindex
X-PUBLISHED-TTL:PT1H
BEGIN:VTIMEZONE
TZID:Europe/Berlin
BEGIN:DAYLIGHT
TZOFFSETFROM:+0100
TZOFFSETTO:+0200
TZNAME:CEST
DTSTART:20260329T010000
END:DAYLIGHT
BEGIN:STANDARD
TZOFFSETFROM:+0200
TZOFFSETTO:+0100
TZNAME:CET
DTSTART:20261025T010000
END:STANDARD
BEGIN:DAYLIGHT
TZOFFSETFROM:+0100
TZOFFSETTO:+0200
TZNAME:CEST
DTSTART:20270328T010000
END:DAYLIGHT
BEGIN:STANDARD
TZOFFSETFROM:+0200
TZOFFSETTO:+0100
TZNAME:CET
DTSTART:20271031T010000
END:STANDARD
BEGIN:DAYLIGHT
TZOFFSETFROM:+0100
TZOFFSETTO:+0200
TZNAME:CEST
DTSTART:20280326T010000
END:DAYLIGHT
BEGIN:STANDARD
TZOFFSETFROM:+0200
TZOFFSETTO:+0100
TZNAME:CET
DTSTART:20281029T010000
END:STANDARD
BEGIN:DAYLIGHT
TZOFFSETFROM:+0100
TZOFFSETTO:+0200
TZNAME:CEST
DTSTART:20290325T010000
END:DAYLIGHT
BEGIN:STANDARD
TZOFFSETFROM:+0200
TZOFFSETTO:+0100
TZNAME:CET
DTSTART:20291028T010000
END:STANDARD
BEGIN:DAYLIGHT
TZOFFSETFROM:+0100
TZOFFSETTO:+0200
TZNAME:CEST
DTSTART:20300331T010000
END:DAYLIGHT
BEGIN:STANDARD
TZOFFSETFROM:+0200
TZOFFSETTO:+0100
TZNAME:CET
DTSTART:20301027T010000
END:STANDARD
END:VTIMEZONE
BEGIN:VEVENT
DTSTART;TZID=Europe/Berlin:20270520T173000
DTEND;TZID=Europe/Berlin:20270520T200000
DTSTAMP:20260420T165307
CREATED:20260305T173816Z
LAST-MODIFIED:20260305T174054Z
UID:10000015-1810834200-1810843200@hbv-wuppertal.de
SUMMARY:HBV-Stammtisch
DESCRIPTION:Liebe HBV-Mitglieder und Freunde\, \nhiermit laden wir Sie herzlich zu unserem nächsten HBV-Stammtisch ein.\nWir treffen uns in gemütlicher Runde zum Austausch\, für gute Gespräche und ein geselliges Beisammensein. \nOrt: Gaststätte Herhaus\nUntere Lichtenplatzer Straße 44\n42289 Wuppertal \nWir freuen uns auf einen schönen Abend mit Ihnen! \nViele Grüße\nIhr HBV-Vorstand
URL:https://hbv-wuppertal.de/termine/hbv-stammtisch/2027-05-20/
LOCATION:Gaststätte Herhaus\, Untere Lichtenplatzer Straße 44\, Wuppertal\, 42289
END:VEVENT
BEGIN:VEVENT
DTSTART;TZID=Europe/Berlin:20270617T173000
DTEND;TZID=Europe/Berlin:20270617T200000
DTSTAMP:20260420T165307
CREATED:20260305T173816Z
LAST-MODIFIED:20260305T174054Z
UID:10000016-1813253400-1813262400@hbv-wuppertal.de
SUMMARY:HBV-Stammtisch
DESCRIPTION:Liebe HBV-Mitglieder und Freunde\, \nhiermit laden wir Sie herzlich zu unserem nächsten HBV-Stammtisch ein.\nWir treffen uns in gemütlicher Runde zum Austausch\, für gute Gespräche und ein geselliges Beisammensein. \nOrt: Gaststätte Herhaus\nUntere Lichtenplatzer Straße 44\n42289 Wuppertal \nWir freuen uns auf einen schönen Abend mit Ihnen! \nViele Grüße\nIhr HBV-Vorstand
URL:https://hbv-wuppertal.de/termine/hbv-stammtisch/2027-06-17/
LOCATION:Gaststätte Herhaus\, Untere Lichtenplatzer Straße 44\, Wuppertal\, 42289
END:VEVENT
BEGIN:VEVENT
DTSTART;TZID=Europe/Berlin:20270715T173000
DTEND;TZID=Europe/Berlin:20270715T200000
DTSTAMP:20260420T165307
CREATED:20260305T173816Z
LAST-MODIFIED:20260305T174054Z
UID:10000017-1815672600-1815681600@hbv-wuppertal.de
SUMMARY:HBV-Stammtisch
DESCRIPTION:Liebe HBV-Mitglieder und Freunde\, \nhiermit laden wir Sie herzlich zu unserem nächsten HBV-Stammtisch ein.\nWir treffen uns in gemütlicher Runde zum Austausch\, für gute Gespräche und ein geselliges Beisammensein. \nOrt: Gaststätte Herhaus\nUntere Lichtenplatzer Straße 44\n42289 Wuppertal \nWir freuen uns auf einen schönen Abend mit Ihnen! \nViele Grüße\nIhr HBV-Vorstand
URL:https://hbv-wuppertal.de/termine/hbv-stammtisch/2027-07-15/
LOCATION:Gaststätte Herhaus\, Untere Lichtenplatzer Straße 44\, Wuppertal\, 42289
END:VEVENT
BEGIN:VEVENT
DTSTART;TZID=Europe/Berlin:20270819T173000
DTEND;TZID=Europe/Berlin:20270819T200000
DTSTAMP:20260420T165307
CREATED:20260305T173816Z
LAST-MODIFIED:20260305T174054Z
UID:10000018-1818696600-1818705600@hbv-wuppertal.de
SUMMARY:HBV-Stammtisch
DESCRIPTION:Liebe HBV-Mitglieder und Freunde\, \nhiermit laden wir Sie herzlich zu unserem nächsten HBV-Stammtisch ein.\nWir treffen uns in gemütlicher Runde zum Austausch\, für gute Gespräche und ein geselliges Beisammensein. \nOrt: Gaststätte Herhaus\nUntere Lichtenplatzer Straße 44\n42289 Wuppertal \nWir freuen uns auf einen schönen Abend mit Ihnen! \nViele Grüße\nIhr HBV-Vorstand
URL:https://hbv-wuppertal.de/termine/hbv-stammtisch/2027-08-19/
LOCATION:Gaststätte Herhaus\, Untere Lichtenplatzer Straße 44\, Wuppertal\, 42289
END:VEVENT
BEGIN:VEVENT
DTSTART;TZID=Europe/Berlin:20270916T173000
DTEND;TZID=Europe/Berlin:20270916T200000
DTSTAMP:20260420T165307
CREATED:20260305T173816Z
LAST-MODIFIED:20260305T174054Z
UID:10000019-1821115800-1821124800@hbv-wuppertal.de
SUMMARY:HBV-Stammtisch
DESCRIPTION:Liebe HBV-Mitglieder und Freunde\, \nhiermit laden wir Sie herzlich zu unserem nächsten HBV-Stammtisch ein.\nWir treffen uns in gemütlicher Runde zum Austausch\, für gute Gespräche und ein geselliges Beisammensein. \nOrt: Gaststätte Herhaus\nUntere Lichtenplatzer Straße 44\n42289 Wuppertal \nWir freuen uns auf einen schönen Abend mit Ihnen! \nViele Grüße\nIhr HBV-Vorstand
URL:https://hbv-wuppertal.de/termine/hbv-stammtisch/2027-09-16/
LOCATION:Gaststätte Herhaus\, Untere Lichtenplatzer Straße 44\, Wuppertal\, 42289
END:VEVENT
BEGIN:VEVENT
DTSTART;TZID=Europe/Berlin:20271021T173000
DTEND;TZID=Europe/Berlin:20271021T200000
DTSTAMP:20260420T165307
CREATED:20260305T173816Z
LAST-MODIFIED:20260305T174054Z
UID:10000020-1824139800-1824148800@hbv-wuppertal.de
SUMMARY:HBV-Stammtisch
DESCRIPTION:Liebe HBV-Mitglieder und Freunde\, \nhiermit laden wir Sie herzlich zu unserem nächsten HBV-Stammtisch ein.\nWir treffen uns in gemütlicher Runde zum Austausch\, für gute Gespräche und ein geselliges Beisammensein. \nOrt: Gaststätte Herhaus\nUntere Lichtenplatzer Straße 44\n42289 Wuppertal \nWir freuen uns auf einen schönen Abend mit Ihnen! \nViele Grüße\nIhr HBV-Vorstand
URL:https://hbv-wuppertal.de/termine/hbv-stammtisch/2027-10-21/
LOCATION:Gaststätte Herhaus\, Untere Lichtenplatzer Straße 44\, Wuppertal\, 42289
END:VEVENT
BEGIN:VEVENT
DTSTART;TZID=Europe/Berlin:20271118T173000
DTEND;TZID=Europe/Berlin:20271118T200000
DTSTAMP:20260420T165307
CREATED:20260305T173816Z
LAST-MODIFIED:20260305T174054Z
UID:10000021-1826559000-1826568000@hbv-wuppertal.de
SUMMARY:HBV-Stammtisch
DESCRIPTION:Liebe HBV-Mitglieder und Freunde\, \nhiermit laden wir Sie herzlich zu unserem nächsten HBV-Stammtisch ein.\nWir treffen uns in gemütlicher Runde zum Austausch\, für gute Gespräche und ein geselliges Beisammensein. \nOrt: Gaststätte Herhaus\nUntere Lichtenplatzer Straße 44\n42289 Wuppertal \nWir freuen uns auf einen schönen Abend mit Ihnen! \nViele Grüße\nIhr HBV-Vorstand
URL:https://hbv-wuppertal.de/termine/hbv-stammtisch/2027-11-18/
LOCATION:Gaststätte Herhaus\, Untere Lichtenplatzer Straße 44\, Wuppertal\, 42289
END:VEVENT
BEGIN:VEVENT
DTSTART;TZID=Europe/Berlin:20271216T173000
DTEND;TZID=Europe/Berlin:20271216T200000
DTSTAMP:20260420T165307
CREATED:20260305T173816Z
LAST-MODIFIED:20260305T174054Z
UID:10000022-1828978200-1828987200@hbv-wuppertal.de
SUMMARY:HBV-Stammtisch
DESCRIPTION:Liebe HBV-Mitglieder und Freunde\, \nhiermit laden wir Sie herzlich zu unserem nächsten HBV-Stammtisch ein.\nWir treffen uns in gemütlicher Runde zum Austausch\, für gute Gespräche und ein geselliges Beisammensein. \nOrt: Gaststätte Herhaus\nUntere Lichtenplatzer Straße 44\n42289 Wuppertal \nWir freuen uns auf einen schönen Abend mit Ihnen! \nViele Grüße\nIhr HBV-Vorstand
URL:https://hbv-wuppertal.de/termine/hbv-stammtisch/2027-12-16/
LOCATION:Gaststätte Herhaus\, Untere Lichtenplatzer Straße 44\, Wuppertal\, 42289
END:VEVENT
BEGIN:VEVENT
DTSTART;TZID=Europe/Berlin:20280120T173000
DTEND;TZID=Europe/Berlin:20280120T200000
DTSTAMP:20260420T165307
CREATED:20260305T173816Z
LAST-MODIFIED:20260305T174054Z
UID:10000023-1832002200-1832011200@hbv-wuppertal.de
SUMMARY:HBV-Stammtisch
DESCRIPTION:Liebe HBV-Mitglieder und Freunde\, \nhiermit laden wir Sie herzlich zu unserem nächsten HBV-Stammtisch ein.\nWir treffen uns in gemütlicher Runde zum Austausch\, für gute Gespräche und ein geselliges Beisammensein. \nOrt: Gaststätte Herhaus\nUntere Lichtenplatzer Straße 44\n42289 Wuppertal \nWir freuen uns auf einen schönen Abend mit Ihnen! \nViele Grüße\nIhr HBV-Vorstand
URL:https://hbv-wuppertal.de/termine/hbv-stammtisch/2028-01-20/
LOCATION:Gaststätte Herhaus\, Untere Lichtenplatzer Straße 44\, Wuppertal\, 42289
END:VEVENT
BEGIN:VEVENT
DTSTART;TZID=Europe/Berlin:20280217T173000
DTEND;TZID=Europe/Berlin:20280217T200000
DTSTAMP:20260420T165307
CREATED:20260305T173816Z
LAST-MODIFIED:20260305T174054Z
UID:10000024-1834421400-1834430400@hbv-wuppertal.de
SUMMARY:HBV-Stammtisch
DESCRIPTION:Liebe HBV-Mitglieder und Freunde\, \nhiermit laden wir Sie herzlich zu unserem nächsten HBV-Stammtisch ein.\nWir treffen uns in gemütlicher Runde zum Austausch\, für gute Gespräche und ein geselliges Beisammensein. \nOrt: Gaststätte Herhaus\nUntere Lichtenplatzer Straße 44\n42289 Wuppertal \nWir freuen uns auf einen schönen Abend mit Ihnen! \nViele Grüße\nIhr HBV-Vorstand
URL:https://hbv-wuppertal.de/termine/hbv-stammtisch/2028-02-17/
LOCATION:Gaststätte Herhaus\, Untere Lichtenplatzer Straße 44\, Wuppertal\, 42289
END:VEVENT
BEGIN:VEVENT
DTSTART;TZID=Europe/Berlin:20280316T173000
DTEND;TZID=Europe/Berlin:20280316T200000
DTSTAMP:20260420T165307
CREATED:20260305T173816Z
LAST-MODIFIED:20260305T174054Z
UID:10000025-1836840600-1836849600@hbv-wuppertal.de
SUMMARY:HBV-Stammtisch
DESCRIPTION:Liebe HBV-Mitglieder und Freunde\, \nhiermit laden wir Sie herzlich zu unserem nächsten HBV-Stammtisch ein.\nWir treffen uns in gemütlicher Runde zum Austausch\, für gute Gespräche und ein geselliges Beisammensein. \nOrt: Gaststätte Herhaus\nUntere Lichtenplatzer Straße 44\n42289 Wuppertal \nWir freuen uns auf einen schönen Abend mit Ihnen! \nViele Grüße\nIhr HBV-Vorstand
URL:https://hbv-wuppertal.de/termine/hbv-stammtisch/2028-03-16/
LOCATION:Gaststätte Herhaus\, Untere Lichtenplatzer Straße 44\, Wuppertal\, 42289
END:VEVENT
BEGIN:VEVENT
DTSTART;TZID=Europe/Berlin:20280420T173000
DTEND;TZID=Europe/Berlin:20280420T200000
DTSTAMP:20260420T165307
CREATED:20260305T173816Z
LAST-MODIFIED:20260305T174054Z
UID:10000026-1839864600-1839873600@hbv-wuppertal.de
SUMMARY:HBV-Stammtisch
DESCRIPTION:Liebe HBV-Mitglieder und Freunde\, \nhiermit laden wir Sie herzlich zu unserem nächsten HBV-Stammtisch ein.\nWir treffen uns in gemütlicher Runde zum Austausch\, für gute Gespräche und ein geselliges Beisammensein. \nOrt: Gaststätte Herhaus\nUntere Lichtenplatzer Straße 44\n42289 Wuppertal \nWir freuen uns auf einen schönen Abend mit Ihnen! \nViele Grüße\nIhr HBV-Vorstand
URL:https://hbv-wuppertal.de/termine/hbv-stammtisch/2028-04-20/
LOCATION:Gaststätte Herhaus\, Untere Lichtenplatzer Straße 44\, Wuppertal\, 42289
END:VEVENT
BEGIN:VEVENT
DTSTART;TZID=Europe/Berlin:20280518T173000
DTEND;TZID=Europe/Berlin:20280518T200000
DTSTAMP:20260420T165307
CREATED:20260305T173816Z
LAST-MODIFIED:20260305T174054Z
UID:10000027-1842283800-1842292800@hbv-wuppertal.de
SUMMARY:HBV-Stammtisch
DESCRIPTION:Liebe HBV-Mitglieder und Freunde\, \nhiermit laden wir Sie herzlich zu unserem nächsten HBV-Stammtisch ein.\nWir treffen uns in gemütlicher Runde zum Austausch\, für gute Gespräche und ein geselliges Beisammensein. \nOrt: Gaststätte Herhaus\nUntere Lichtenplatzer Straße 44\n42289 Wuppertal \nWir freuen uns auf einen schönen Abend mit Ihnen! \nViele Grüße\nIhr HBV-Vorstand
URL:https://hbv-wuppertal.de/termine/hbv-stammtisch/2028-05-18/
LOCATION:Gaststätte Herhaus\, Untere Lichtenplatzer Straße 44\, Wuppertal\, 42289
END:VEVENT
BEGIN:VEVENT
DTSTART;TZID=Europe/Berlin:20280615T173000
DTEND;TZID=Europe/Berlin:20280615T200000
DTSTAMP:20260420T165307
CREATED:20260305T173816Z
LAST-MODIFIED:20260305T174054Z
UID:10000028-1844703000-1844712000@hbv-wuppertal.de
SUMMARY:HBV-Stammtisch
DESCRIPTION:Liebe HBV-Mitglieder und Freunde\, \nhiermit laden wir Sie herzlich zu unserem nächsten HBV-Stammtisch ein.\nWir treffen uns in gemütlicher Runde zum Austausch\, für gute Gespräche und ein geselliges Beisammensein. \nOrt: Gaststätte Herhaus\nUntere Lichtenplatzer Straße 44\n42289 Wuppertal \nWir freuen uns auf einen schönen Abend mit Ihnen! \nViele Grüße\nIhr HBV-Vorstand
URL:https://hbv-wuppertal.de/termine/hbv-stammtisch/2028-06-15/
LOCATION:Gaststätte Herhaus\, Untere Lichtenplatzer Straße 44\, Wuppertal\, 42289
END:VEVENT
BEGIN:VEVENT
DTSTART;TZID=Europe/Berlin:20280720T173000
DTEND;TZID=Europe/Berlin:20280720T200000
DTSTAMP:20260420T165307
CREATED:20260305T173816Z
LAST-MODIFIED:20260305T174054Z
UID:10000029-1847727000-1847736000@hbv-wuppertal.de
SUMMARY:HBV-Stammtisch
DESCRIPTION:Liebe HBV-Mitglieder und Freunde\, \nhiermit laden wir Sie herzlich zu unserem nächsten HBV-Stammtisch ein.\nWir treffen uns in gemütlicher Runde zum Austausch\, für gute Gespräche und ein geselliges Beisammensein. \nOrt: Gaststätte Herhaus\nUntere Lichtenplatzer Straße 44\n42289 Wuppertal \nWir freuen uns auf einen schönen Abend mit Ihnen! \nViele Grüße\nIhr HBV-Vorstand
URL:https://hbv-wuppertal.de/termine/hbv-stammtisch/2028-07-20/
LOCATION:Gaststätte Herhaus\, Untere Lichtenplatzer Straße 44\, Wuppertal\, 42289
END:VEVENT
BEGIN:VEVENT
DTSTART;TZID=Europe/Berlin:20280817T173000
DTEND;TZID=Europe/Berlin:20280817T200000
DTSTAMP:20260420T165307
CREATED:20260305T173816Z
LAST-MODIFIED:20260305T174054Z
UID:10000030-1850146200-1850155200@hbv-wuppertal.de
SUMMARY:HBV-Stammtisch
DESCRIPTION:Liebe HBV-Mitglieder und Freunde\, \nhiermit laden wir Sie herzlich zu unserem nächsten HBV-Stammtisch ein.\nWir treffen uns in gemütlicher Runde zum Austausch\, für gute Gespräche und ein geselliges Beisammensein. \nOrt: Gaststätte Herhaus\nUntere Lichtenplatzer Straße 44\n42289 Wuppertal \nWir freuen uns auf einen schönen Abend mit Ihnen! \nViele Grüße\nIhr HBV-Vorstand
URL:https://hbv-wuppertal.de/termine/hbv-stammtisch/2028-08-17/
LOCATION:Gaststätte Herhaus\, Untere Lichtenplatzer Straße 44\, Wuppertal\, 42289
END:VEVENT
BEGIN:VEVENT
DTSTART;TZID=Europe/Berlin:20280921T173000
DTEND;TZID=Europe/Berlin:20280921T200000
DTSTAMP:20260420T165307
CREATED:20260305T173816Z
LAST-MODIFIED:20260305T174054Z
UID:10000031-1853170200-1853179200@hbv-wuppertal.de
SUMMARY:HBV-Stammtisch
DESCRIPTION:Liebe HBV-Mitglieder und Freunde\, \nhiermit laden wir Sie herzlich zu unserem nächsten HBV-Stammtisch ein.\nWir treffen uns in gemütlicher Runde zum Austausch\, für gute Gespräche und ein geselliges Beisammensein. \nOrt: Gaststätte Herhaus\nUntere Lichtenplatzer Straße 44\n42289 Wuppertal \nWir freuen uns auf einen schönen Abend mit Ihnen! \nViele Grüße\nIhr HBV-Vorstand
URL:https://hbv-wuppertal.de/termine/hbv-stammtisch/2028-09-21/
LOCATION:Gaststätte Herhaus\, Untere Lichtenplatzer Straße 44\, Wuppertal\, 42289
END:VEVENT
BEGIN:VEVENT
DTSTART;TZID=Europe/Berlin:20281019T173000
DTEND;TZID=Europe/Berlin:20281019T200000
DTSTAMP:20260420T165307
CREATED:20260305T173816Z
LAST-MODIFIED:20260305T174054Z
UID:10000032-1855589400-1855598400@hbv-wuppertal.de
SUMMARY:HBV-Stammtisch
DESCRIPTION:Liebe HBV-Mitglieder und Freunde\, \nhiermit laden wir Sie herzlich zu unserem nächsten HBV-Stammtisch ein.\nWir treffen uns in gemütlicher Runde zum Austausch\, für gute Gespräche und ein geselliges Beisammensein. \nOrt: Gaststätte Herhaus\nUntere Lichtenplatzer Straße 44\n42289 Wuppertal \nWir freuen uns auf einen schönen Abend mit Ihnen! \nViele Grüße\nIhr HBV-Vorstand
URL:https://hbv-wuppertal.de/termine/hbv-stammtisch/2028-10-19/
LOCATION:Gaststätte Herhaus\, Untere Lichtenplatzer Straße 44\, Wuppertal\, 42289
END:VEVENT
BEGIN:VEVENT
DTSTART;TZID=Europe/Berlin:20281116T173000
DTEND;TZID=Europe/Berlin:20281116T200000
DTSTAMP:20260420T165307
CREATED:20260305T173816Z
LAST-MODIFIED:20260305T174054Z
UID:10000033-1858008600-1858017600@hbv-wuppertal.de
SUMMARY:HBV-Stammtisch
DESCRIPTION:Liebe HBV-Mitglieder und Freunde\, \nhiermit laden wir Sie herzlich zu unserem nächsten HBV-Stammtisch ein.\nWir treffen uns in gemütlicher Runde zum Austausch\, für gute Gespräche und ein geselliges Beisammensein. \nOrt: Gaststätte Herhaus\nUntere Lichtenplatzer Straße 44\n42289 Wuppertal \nWir freuen uns auf einen schönen Abend mit Ihnen! \nViele Grüße\nIhr HBV-Vorstand
URL:https://hbv-wuppertal.de/termine/hbv-stammtisch/2028-11-16/
LOCATION:Gaststätte Herhaus\, Untere Lichtenplatzer Straße 44\, Wuppertal\, 42289
END:VEVENT
BEGIN:VEVENT
DTSTART;TZID=Europe/Berlin:20281221T173000
DTEND;TZID=Europe/Berlin:20281221T200000
DTSTAMP:20260420T165307
CREATED:20260305T173816Z
LAST-MODIFIED:20260305T174054Z
UID:10000034-1861032600-1861041600@hbv-wuppertal.de
SUMMARY:HBV-Stammtisch
DESCRIPTION:Liebe HBV-Mitglieder und Freunde\, \nhiermit laden wir Sie herzlich zu unserem nächsten HBV-Stammtisch ein.\nWir treffen uns in gemütlicher Runde zum Austausch\, für gute Gespräche und ein geselliges Beisammensein. \nOrt: Gaststätte Herhaus\nUntere Lichtenplatzer Straße 44\n42289 Wuppertal \nWir freuen uns auf einen schönen Abend mit Ihnen! \nViele Grüße\nIhr HBV-Vorstand
URL:https://hbv-wuppertal.de/termine/hbv-stammtisch/2028-12-21/
LOCATION:Gaststätte Herhaus\, Untere Lichtenplatzer Straße 44\, Wuppertal\, 42289
END:VEVENT
BEGIN:VEVENT
DTSTART;TZID=Europe/Berlin:20290118T173000
DTEND;TZID=Europe/Berlin:20290118T200000
DTSTAMP:20260420T165307
CREATED:20260305T173816Z
LAST-MODIFIED:20260305T174054Z
UID:10000035-1863451800-1863460800@hbv-wuppertal.de
SUMMARY:HBV-Stammtisch
DESCRIPTION:Liebe HBV-Mitglieder und Freunde\, \nhiermit laden wir Sie herzlich zu unserem nächsten HBV-Stammtisch ein.\nWir treffen uns in gemütlicher Runde zum Austausch\, für gute Gespräche und ein geselliges Beisammensein. \nOrt: Gaststätte Herhaus\nUntere Lichtenplatzer Straße 44\n42289 Wuppertal \nWir freuen uns auf einen schönen Abend mit Ihnen! \nViele Grüße\nIhr HBV-Vorstand
URL:https://hbv-wuppertal.de/termine/hbv-stammtisch/2029-01-18/
LOCATION:Gaststätte Herhaus\, Untere Lichtenplatzer Straße 44\, Wuppertal\, 42289
END:VEVENT
BEGIN:VEVENT
DTSTART;TZID=Europe/Berlin:20290215T173000
DTEND;TZID=Europe/Berlin:20290215T200000
DTSTAMP:20260420T165307
CREATED:20260305T173816Z
LAST-MODIFIED:20260305T174054Z
UID:10000036-1865871000-1865880000@hbv-wuppertal.de
SUMMARY:HBV-Stammtisch
DESCRIPTION:Liebe HBV-Mitglieder und Freunde\, \nhiermit laden wir Sie herzlich zu unserem nächsten HBV-Stammtisch ein.\nWir treffen uns in gemütlicher Runde zum Austausch\, für gute Gespräche und ein geselliges Beisammensein. \nOrt: Gaststätte Herhaus\nUntere Lichtenplatzer Straße 44\n42289 Wuppertal \nWir freuen uns auf einen schönen Abend mit Ihnen! \nViele Grüße\nIhr HBV-Vorstand
URL:https://hbv-wuppertal.de/termine/hbv-stammtisch/2029-02-15/
LOCATION:Gaststätte Herhaus\, Untere Lichtenplatzer Straße 44\, Wuppertal\, 42289
END:VEVENT
BEGIN:VEVENT
DTSTART;TZID=Europe/Berlin:20290315T173000
DTEND;TZID=Europe/Berlin:20290315T200000
DTSTAMP:20260420T165307
CREATED:20260305T173816Z
LAST-MODIFIED:20260305T174054Z
UID:10000037-1868290200-1868299200@hbv-wuppertal.de
SUMMARY:HBV-Stammtisch
DESCRIPTION:Liebe HBV-Mitglieder und Freunde\, \nhiermit laden wir Sie herzlich zu unserem nächsten HBV-Stammtisch ein.\nWir treffen uns in gemütlicher Runde zum Austausch\, für gute Gespräche und ein geselliges Beisammensein. \nOrt: Gaststätte Herhaus\nUntere Lichtenplatzer Straße 44\n42289 Wuppertal \nWir freuen uns auf einen schönen Abend mit Ihnen! \nViele Grüße\nIhr HBV-Vorstand
URL:https://hbv-wuppertal.de/termine/hbv-stammtisch/2029-03-15/
LOCATION:Gaststätte Herhaus\, Untere Lichtenplatzer Straße 44\, Wuppertal\, 42289
END:VEVENT
BEGIN:VEVENT
DTSTART;TZID=Europe/Berlin:20290419T173000
DTEND;TZID=Europe/Berlin:20290419T200000
DTSTAMP:20260420T165307
CREATED:20260305T173816Z
LAST-MODIFIED:20260305T174054Z
UID:10000038-1871314200-1871323200@hbv-wuppertal.de
SUMMARY:HBV-Stammtisch
DESCRIPTION:Liebe HBV-Mitglieder und Freunde\, \nhiermit laden wir Sie herzlich zu unserem nächsten HBV-Stammtisch ein.\nWir treffen uns in gemütlicher Runde zum Austausch\, für gute Gespräche und ein geselliges Beisammensein. \nOrt: Gaststätte Herhaus\nUntere Lichtenplatzer Straße 44\n42289 Wuppertal \nWir freuen uns auf einen schönen Abend mit Ihnen! \nViele Grüße\nIhr HBV-Vorstand
URL:https://hbv-wuppertal.de/termine/hbv-stammtisch/2029-04-19/
LOCATION:Gaststätte Herhaus\, Untere Lichtenplatzer Straße 44\, Wuppertal\, 42289
END:VEVENT
BEGIN:VEVENT
DTSTART;TZID=Europe/Berlin:20290517T173000
DTEND;TZID=Europe/Berlin:20290517T200000
DTSTAMP:20260420T165307
CREATED:20260305T173816Z
LAST-MODIFIED:20260305T174054Z
UID:10000039-1873733400-1873742400@hbv-wuppertal.de
SUMMARY:HBV-Stammtisch
DESCRIPTION:Liebe HBV-Mitglieder und Freunde\, \nhiermit laden wir Sie herzlich zu unserem nächsten HBV-Stammtisch ein.\nWir treffen uns in gemütlicher Runde zum Austausch\, für gute Gespräche und ein geselliges Beisammensein. \nOrt: Gaststätte Herhaus\nUntere Lichtenplatzer Straße 44\n42289 Wuppertal \nWir freuen uns auf einen schönen Abend mit Ihnen! \nViele Grüße\nIhr HBV-Vorstand
URL:https://hbv-wuppertal.de/termine/hbv-stammtisch/2029-05-17/
LOCATION:Gaststätte Herhaus\, Untere Lichtenplatzer Straße 44\, Wuppertal\, 42289
END:VEVENT
BEGIN:VEVENT
DTSTART;TZID=Europe/Berlin:20290621T173000
DTEND;TZID=Europe/Berlin:20290621T200000
DTSTAMP:20260420T165307
CREATED:20260305T173816Z
LAST-MODIFIED:20260305T174054Z
UID:10000040-1876757400-1876766400@hbv-wuppertal.de
SUMMARY:HBV-Stammtisch
DESCRIPTION:Liebe HBV-Mitglieder und Freunde\, \nhiermit laden wir Sie herzlich zu unserem nächsten HBV-Stammtisch ein.\nWir treffen uns in gemütlicher Runde zum Austausch\, für gute Gespräche und ein geselliges Beisammensein. \nOrt: Gaststätte Herhaus\nUntere Lichtenplatzer Straße 44\n42289 Wuppertal \nWir freuen uns auf einen schönen Abend mit Ihnen! \nViele Grüße\nIhr HBV-Vorstand
URL:https://hbv-wuppertal.de/termine/hbv-stammtisch/2029-06-21/
LOCATION:Gaststätte Herhaus\, Untere Lichtenplatzer Straße 44\, Wuppertal\, 42289
END:VEVENT
BEGIN:VEVENT
DTSTART;TZID=Europe/Berlin:20290719T173000
DTEND;TZID=Europe/Berlin:20290719T200000
DTSTAMP:20260420T165307
CREATED:20260305T173816Z
LAST-MODIFIED:20260305T174054Z
UID:10000041-1879176600-1879185600@hbv-wuppertal.de
SUMMARY:HBV-Stammtisch
DESCRIPTION:Liebe HBV-Mitglieder und Freunde\, \nhiermit laden wir Sie herzlich zu unserem nächsten HBV-Stammtisch ein.\nWir treffen uns in gemütlicher Runde zum Austausch\, für gute Gespräche und ein geselliges Beisammensein. \nOrt: Gaststätte Herhaus\nUntere Lichtenplatzer Straße 44\n42289 Wuppertal \nWir freuen uns auf einen schönen Abend mit Ihnen! \nViele Grüße\nIhr HBV-Vorstand
URL:https://hbv-wuppertal.de/termine/hbv-stammtisch/2029-07-19/
LOCATION:Gaststätte Herhaus\, Untere Lichtenplatzer Straße 44\, Wuppertal\, 42289
END:VEVENT
BEGIN:VEVENT
DTSTART;TZID=Europe/Berlin:20290816T173000
DTEND;TZID=Europe/Berlin:20290816T200000
DTSTAMP:20260420T165307
CREATED:20260305T173816Z
LAST-MODIFIED:20260305T174054Z
UID:10000042-1881595800-1881604800@hbv-wuppertal.de
SUMMARY:HBV-Stammtisch
DESCRIPTION:Liebe HBV-Mitglieder und Freunde\, \nhiermit laden wir Sie herzlich zu unserem nächsten HBV-Stammtisch ein.\nWir treffen uns in gemütlicher Runde zum Austausch\, für gute Gespräche und ein geselliges Beisammensein. \nOrt: Gaststätte Herhaus\nUntere Lichtenplatzer Straße 44\n42289 Wuppertal \nWir freuen uns auf einen schönen Abend mit Ihnen! \nViele Grüße\nIhr HBV-Vorstand
URL:https://hbv-wuppertal.de/termine/hbv-stammtisch/2029-08-16/
LOCATION:Gaststätte Herhaus\, Untere Lichtenplatzer Straße 44\, Wuppertal\, 42289
END:VEVENT
BEGIN:VEVENT
DTSTART;TZID=Europe/Berlin:20290920T173000
DTEND;TZID=Europe/Berlin:20290920T200000
DTSTAMP:20260420T165307
CREATED:20260305T173816Z
LAST-MODIFIED:20260305T174054Z
UID:10000043-1884619800-1884628800@hbv-wuppertal.de
SUMMARY:HBV-Stammtisch
DESCRIPTION:Liebe HBV-Mitglieder und Freunde\, \nhiermit laden wir Sie herzlich zu unserem nächsten HBV-Stammtisch ein.\nWir treffen uns in gemütlicher Runde zum Austausch\, für gute Gespräche und ein geselliges Beisammensein. \nOrt: Gaststätte Herhaus\nUntere Lichtenplatzer Straße 44\n42289 Wuppertal \nWir freuen uns auf einen schönen Abend mit Ihnen! \nViele Grüße\nIhr HBV-Vorstand
URL:https://hbv-wuppertal.de/termine/hbv-stammtisch/2029-09-20/
LOCATION:Gaststätte Herhaus\, Untere Lichtenplatzer Straße 44\, Wuppertal\, 42289
END:VEVENT
BEGIN:VEVENT
DTSTART;TZID=Europe/Berlin:20291018T173000
DTEND;TZID=Europe/Berlin:20291018T200000
DTSTAMP:20260420T165307
CREATED:20260305T173816Z
LAST-MODIFIED:20260305T174054Z
UID:10000044-1887039000-1887048000@hbv-wuppertal.de
SUMMARY:HBV-Stammtisch
DESCRIPTION:Liebe HBV-Mitglieder und Freunde\, \nhiermit laden wir Sie herzlich zu unserem nächsten HBV-Stammtisch ein.\nWir treffen uns in gemütlicher Runde zum Austausch\, für gute Gespräche und ein geselliges Beisammensein. \nOrt: Gaststätte Herhaus\nUntere Lichtenplatzer Straße 44\n42289 Wuppertal \nWir freuen uns auf einen schönen Abend mit Ihnen! \nViele Grüße\nIhr HBV-Vorstand
URL:https://hbv-wuppertal.de/termine/hbv-stammtisch/2029-10-18/
LOCATION:Gaststätte Herhaus\, Untere Lichtenplatzer Straße 44\, Wuppertal\, 42289
END:VEVENT
END:VCALENDAR