BEGIN:VCALENDAR
VERSION:2.0
PRODID:-//Heidter Bürgerverein e.V. - ECPv6.15.17//NONSGML v1.0//EN
CALSCALE:GREGORIAN
METHOD:PUBLISH
X-WR-CALNAME:Heidter Bürgerverein e.V.
X-ORIGINAL-URL:https://hbv-wuppertal.de
X-WR-CALDESC:Veranstaltungen für Heidter Bürgerverein e.V.
REFRESH-INTERVAL;VALUE=DURATION:PT1H
X-Robots-Tag:noindex
X-PUBLISHED-TTL:PT1H
BEGIN:VTIMEZONE
TZID:Europe/Berlin
BEGIN:DAYLIGHT
TZOFFSETFROM:+0100
TZOFFSETTO:+0200
TZNAME:CEST
DTSTART:20250330T010000
END:DAYLIGHT
BEGIN:STANDARD
TZOFFSETFROM:+0200
TZOFFSETTO:+0100
TZNAME:CET
DTSTART:20251026T010000
END:STANDARD
BEGIN:DAYLIGHT
TZOFFSETFROM:+0100
TZOFFSETTO:+0200
TZNAME:CEST
DTSTART:20260329T010000
END:DAYLIGHT
BEGIN:STANDARD
TZOFFSETFROM:+0200
TZOFFSETTO:+0100
TZNAME:CET
DTSTART:20261025T010000
END:STANDARD
BEGIN:DAYLIGHT
TZOFFSETFROM:+0100
TZOFFSETTO:+0200
TZNAME:CEST
DTSTART:20270328T010000
END:DAYLIGHT
BEGIN:STANDARD
TZOFFSETFROM:+0200
TZOFFSETTO:+0100
TZNAME:CET
DTSTART:20271031T010000
END:STANDARD
END:VTIMEZONE
BEGIN:VEVENT
DTSTART;TZID=Europe/Berlin:20260716T173000
DTEND;TZID=Europe/Berlin:20260716T200000
DTSTAMP:20260420T144307
CREATED:20260305T173816Z
LAST-MODIFIED:20260305T174054Z
UID:10000005-1784223000-1784232000@hbv-wuppertal.de
SUMMARY:HBV-Stammtisch
DESCRIPTION:Liebe HBV-Mitglieder und Freunde\, \nhiermit laden wir Sie herzlich zu unserem nächsten HBV-Stammtisch ein.\nWir treffen uns in gemütlicher Runde zum Austausch\, für gute Gespräche und ein geselliges Beisammensein. \nOrt: Gaststätte Herhaus\nUntere Lichtenplatzer Straße 44\n42289 Wuppertal \nWir freuen uns auf einen schönen Abend mit Ihnen! \nViele Grüße\nIhr HBV-Vorstand
URL:https://hbv-wuppertal.de/termine/hbv-stammtisch/2026-07-16/
LOCATION:Gaststätte Herhaus\, Untere Lichtenplatzer Straße 44\, Wuppertal\, 42289
END:VEVENT
BEGIN:VEVENT
DTSTART;TZID=Europe/Berlin:20260718T144000
DTEND;TZID=Europe/Berlin:20260718T173000
DTSTAMP:20260420T144307
CREATED:20260305T185239Z
LAST-MODIFIED:20260305T185239Z
UID:10000076-1784385600-1784395800@hbv-wuppertal.de
SUMMARY:Spaziergang: "Vom Öffentlichen Raum zum bevorzugten Wohngebiet“
DESCRIPTION:Spaziergang „Vom Öffentlichen Raum zum bevorzugten Wohngebiet“ \nSamstag\, 18. Juli 2026\, 14:40 Uhr\nTreffpunkt: Bushaltestelle Weberstraße \nDurch die Barmer Südstadt bzw. Heckinghausen-Heidt:\nDicke-Ibach-Treppe\, Barmer Anlagen\, Orgelvorführung Lutherkirche\,\nHofeshaus Lütterkus-Heidt\, ehem. Wasserwerk\, Altes Forsthaus\, ehem. Kohlenstraße \nDauer: ca. 2\,5 Stunden\nBitte festes Schuhwerk anziehen!
URL:https://hbv-wuppertal.de/termine/spaziergang-vom-oeffentlichen-raum-zum-bevorzugten-wohngebiet/
END:VEVENT
BEGIN:VEVENT
DTSTART;TZID=Europe/Berlin:20260718T144000
DTEND;TZID=Europe/Berlin:20260718T173000
DTSTAMP:20260420T144307
CREATED:20260331T144859Z
LAST-MODIFIED:20260331T144859Z
UID:10000135-1784385600-1784395800@hbv-wuppertal.de
SUMMARY:Spaziergang über den Bezirk Heidt
DESCRIPTION:Vom Öffentlichen Raum zum bevorzugtem Wohngebiet
URL:https://hbv-wuppertal.de/termine/spaziergang-ueber-den-bezirk-heidt/
END:VEVENT
END:VCALENDAR