BEGIN:VCALENDAR
VERSION:2.0
PRODID:-//Heidter Bürgerverein e.V. - ECPv6.15.17//NONSGML v1.0//EN
CALSCALE:GREGORIAN
METHOD:PUBLISH
X-ORIGINAL-URL:https://hbv-wuppertal.de
X-WR-CALDESC:Veranstaltungen für Heidter Bürgerverein e.V.
REFRESH-INTERVAL;VALUE=DURATION:PT1H
X-Robots-Tag:noindex
X-PUBLISHED-TTL:PT1H
BEGIN:VTIMEZONE
TZID:Europe/Berlin
BEGIN:DAYLIGHT
TZOFFSETFROM:+0100
TZOFFSETTO:+0200
TZNAME:CEST
DTSTART:20250330T010000
END:DAYLIGHT
BEGIN:STANDARD
TZOFFSETFROM:+0200
TZOFFSETTO:+0100
TZNAME:CET
DTSTART:20251026T010000
END:STANDARD
BEGIN:DAYLIGHT
TZOFFSETFROM:+0100
TZOFFSETTO:+0200
TZNAME:CEST
DTSTART:20260329T010000
END:DAYLIGHT
BEGIN:STANDARD
TZOFFSETFROM:+0200
TZOFFSETTO:+0100
TZNAME:CET
DTSTART:20261025T010000
END:STANDARD
BEGIN:DAYLIGHT
TZOFFSETFROM:+0100
TZOFFSETTO:+0200
TZNAME:CEST
DTSTART:20270328T010000
END:DAYLIGHT
BEGIN:STANDARD
TZOFFSETFROM:+0200
TZOFFSETTO:+0100
TZNAME:CET
DTSTART:20271031T010000
END:STANDARD
END:VTIMEZONE
BEGIN:VEVENT
DTSTART;TZID=Europe/Berlin:20260319T173000
DTEND;TZID=Europe/Berlin:20260319T200000
DTSTAMP:20260420T173731
CREATED:20260305T173816Z
LAST-MODIFIED:20260305T174054Z
UID:10000001-1773941400-1773950400@hbv-wuppertal.de
SUMMARY:HBV-Stammtisch
DESCRIPTION:Liebe HBV-Mitglieder und Freunde\, \nhiermit laden wir Sie herzlich zu unserem nächsten HBV-Stammtisch ein.\nWir treffen uns in gemütlicher Runde zum Austausch\, für gute Gespräche und ein geselliges Beisammensein. \nOrt: Gaststätte Herhaus\nUntere Lichtenplatzer Straße 44\n42289 Wuppertal \nWir freuen uns auf einen schönen Abend mit Ihnen! \nViele Grüße\nIhr HBV-Vorstand
URL:https://hbv-wuppertal.de/termine/hbv-stammtisch/2026-03-19/
LOCATION:Gaststätte Herhaus\, Untere Lichtenplatzer Straße 44\, Wuppertal\, 42289
END:VEVENT
BEGIN:VEVENT
DTSTART;TZID=Europe/Berlin:20260321T150000
DTEND;TZID=Europe/Berlin:20260321T170000
DTSTAMP:20260420T173731
CREATED:20260305T184045Z
LAST-MODIFIED:20260305T184045Z
UID:10000072-1774105200-1774112400@hbv-wuppertal.de
SUMMARY:Jahreshauptversammlung 2026
DESCRIPTION:Sehr geehrte Damen und Herren\,\nliebe Mitglieder des Heidter Bürgervereins e. V.! \nEinladung zur Jahreshauptversammlung\nam Samstag\, dem 21. März 2026\, 15 Uhr\nin die „Arena“ des neuen Spielplatzhauses\nan der Heckinghauser Str. / Ecke Werléstr.\n(Bushaltestelle Werléstr.\, Linie 646) \nNach der erfolgreichen Premiere 2025 sind wir froh\, dieses Ausweichquartier mit funktionierendem Aufzug gefunden zu haben. \nVor Eintritt in die Tagesordnung tritt die Tanzcompanie „Broadway for you“ auf und stellt vier Melodien aus Musicals vor. \nTagesordnung\n\nBegrüßung\, Totengedenken\, Feststellung der Beschlussfähigkeit und Genehmigung der Tagesordnung;\nGenehmigung des Protokolls der letzten Jahreshauptversammlung vom 29.3.2025;\nBerichte:\n\ndes 1. Vorsitzenden\ndes 1. Kassierers\nder Kassenprüfer\n\n\nAussprache;\nWahl eines Versammlungsleiters und Entlastung des Vorstandes;\nWahlen: 2. Vorsitzender\, 1. und 2. Kassierer\, Beirat;\nVorstellung der Tagesfahrten 2026 sowie der Mehrtagesfahrt 2027 und Ausblick auf die Mehrtagesfahrt 2026;\nSatzungsänderung (neuer Satzungsentwurf\, siehe Anlage!);\nVerschiedenes.\n\nIm Anschluss wird Herr Dr. Stefan Kühn\, neu gewählter Bezirksbürgermeister\, noch kurz Interessantes aus der Bezirksvertretung Heckinghausen berichten. \nVorstand und Beirat bitten um zahlreiches Erscheinen sowie rechtzeitige Rücksendung der Anmeldekarten bis zum 20.3.2026! \nÄnderungswünsche zur Tagesordnung richten Sie bitte schriftlich bis zum 20.3.2026 an den 1. Vorsitzenden. \nFür Kaffee\, Gebäck und kalte Getränke ist gesorgt. Bleiben Sie gesund! \nMit freundlichen Grüßen \nIhr Heidter Bürgerverein e. V.\nHermann-Josef Brester\n1. Vorsitzender
URL:https://hbv-wuppertal.de/termine/jahreshauptversammlung-2026/
END:VEVENT
END:VCALENDAR