BEGIN:VCALENDAR
VERSION:2.0
PRODID:-//Heidter Bürgerverein e.V. - ECPv6.15.17//NONSGML v1.0//EN
CALSCALE:GREGORIAN
METHOD:PUBLISH
X-ORIGINAL-URL:https://hbv-wuppertal.de
X-WR-CALDESC:Veranstaltungen für Heidter Bürgerverein e.V.
REFRESH-INTERVAL;VALUE=DURATION:PT1H
X-Robots-Tag:noindex
X-PUBLISHED-TTL:PT1H
BEGIN:VTIMEZONE
TZID:Europe/Berlin
BEGIN:DAYLIGHT
TZOFFSETFROM:+0100
TZOFFSETTO:+0200
TZNAME:CEST
DTSTART:20250330T010000
END:DAYLIGHT
BEGIN:STANDARD
TZOFFSETFROM:+0200
TZOFFSETTO:+0100
TZNAME:CET
DTSTART:20251026T010000
END:STANDARD
BEGIN:DAYLIGHT
TZOFFSETFROM:+0100
TZOFFSETTO:+0200
TZNAME:CEST
DTSTART:20260329T010000
END:DAYLIGHT
BEGIN:STANDARD
TZOFFSETFROM:+0200
TZOFFSETTO:+0100
TZNAME:CET
DTSTART:20261025T010000
END:STANDARD
BEGIN:DAYLIGHT
TZOFFSETFROM:+0100
TZOFFSETTO:+0200
TZNAME:CEST
DTSTART:20270328T010000
END:DAYLIGHT
BEGIN:STANDARD
TZOFFSETFROM:+0200
TZOFFSETTO:+0100
TZNAME:CET
DTSTART:20271031T010000
END:STANDARD
END:VTIMEZONE
BEGIN:VEVENT
DTSTART;TZID=Europe/Berlin:20260513T180000
DTEND;TZID=Europe/Berlin:20260513T200000
DTSTAMP:20260420T094242
CREATED:20260331T144610Z
LAST-MODIFIED:20260331T144610Z
UID:10000078-1778695200-1778702400@hbv-wuppertal.de
SUMMARY:Vorstands- und Beiratssitzung
DESCRIPTION:Vorstand und Beirat treffen sich jeweils am 2. Mittwoch im Monat um 18:00 im städtischen Seniorentreff an der Ecke Gewerbeschul- und Obere Sehlhofstraße.
URL:https://hbv-wuppertal.de/termine/vorstands-und-beiratssitzung/2026-05-13/
END:VEVENT
END:VCALENDAR