BEGIN:VCALENDAR
VERSION:2.0
PRODID:-//Heidter Bürgerverein e.V. - ECPv6.15.17//NONSGML v1.0//EN
CALSCALE:GREGORIAN
METHOD:PUBLISH
X-WR-CALNAME:Heidter Bürgerverein e.V.
X-ORIGINAL-URL:https://hbv-wuppertal.de
X-WR-CALDESC:Veranstaltungen für Heidter Bürgerverein e.V.
REFRESH-INTERVAL;VALUE=DURATION:PT1H
X-Robots-Tag:noindex
X-PUBLISHED-TTL:PT1H
BEGIN:VTIMEZONE
TZID:Europe/Berlin
BEGIN:DAYLIGHT
TZOFFSETFROM:+0100
TZOFFSETTO:+0200
TZNAME:CEST
DTSTART:20250330T010000
END:DAYLIGHT
BEGIN:STANDARD
TZOFFSETFROM:+0200
TZOFFSETTO:+0100
TZNAME:CET
DTSTART:20251026T010000
END:STANDARD
BEGIN:DAYLIGHT
TZOFFSETFROM:+0100
TZOFFSETTO:+0200
TZNAME:CEST
DTSTART:20260329T010000
END:DAYLIGHT
BEGIN:STANDARD
TZOFFSETFROM:+0200
TZOFFSETTO:+0100
TZNAME:CET
DTSTART:20261025T010000
END:STANDARD
BEGIN:DAYLIGHT
TZOFFSETFROM:+0100
TZOFFSETTO:+0200
TZNAME:CEST
DTSTART:20270328T010000
END:DAYLIGHT
BEGIN:STANDARD
TZOFFSETFROM:+0200
TZOFFSETTO:+0100
TZNAME:CET
DTSTART:20271031T010000
END:STANDARD
END:VTIMEZONE
BEGIN:VEVENT
DTSTART;TZID=Europe/Berlin:20260509T120000
DTEND;TZID=Europe/Berlin:20260509T140000
DTSTAMP:20260420T044225
CREATED:20260305T182248Z
LAST-MODIFIED:20260305T183717Z
UID:10000064-1778328000-1778335200@hbv-wuppertal.de
SUMMARY:Wanderung 2026
DESCRIPTION:Wir laden herzlich ein! Wanderwetter ist fast immer!\nDie Teilnahme erfolgt auf eigene Gefahr! \n\n\n\nDatum\nWanderung\nTreffpunkt\nAbfahrt\nDauer\nProfil\n\n\n\n\n10. Jan.\nSambatrasse\n12:45 Bahnhof Oberbarmen\n12:56 – RE7 Hauptbahnhof\n2 Std.\nleicht\n\n\n14. Feb.\nRonsdorf – Klinik Bergisch Land\n12:15 Haltestelle Heidter Berg\n12:28 – Bus 640 Talsperrenstraße\n2 Std.\nleicht\n\n\n14. März\nRonsdorf – Gerstau\n12:15 Haltestelle Heidter Berg\n12:28 – Bus 640 Echoer Straße\n2 Std.\nleicht\n\n\n11. Apr.\nBeyenburg – Pumpenhaus\n12:30 Busbahnhof Oberbarmen\n12:46 – Bus 616\n2 Std.\nleicht\n\n\n09. Mai\nNeandertal\n12:00 Bahnhof Oberbarmen\n12:19 – S8 bis Gruiten\n2 Std.\nleicht\n\n\n13. Juni\nDahlhausen – Beyenburg\n12:00 Busbahnhof Oberbarmen\n12:16 – Bus 626 Dahlhausen\n2 Std.\nleicht\n\n\n11. Juli\nHildener Heide\n12:05 Bahnhof Oberbarmen\n12:18 – RE13 Vohwinkel / 12:41 Bus 784\n2 Std.\nleicht\n\n\n08. Aug.\nHahnenfurth – Düssel\n12:15 Bahnhof Oberbarmen\n12:38 – RB48 Vohwinkel / 13:07 Bus 745\n2 Std.\nleicht\n\n\n05. Sep.\nGrünental – Beyenburg\n12:00 Busbahnhof Oberbarmen\n12:16 – Bus 626 / 12:35 Bus 669\n2 Std.\nleicht\n\n\n10. Okt.\nSchaberg – Unterburg\n12:10 Bahnhof Oberbarmen\n12:22 – S7 Schaberg\n2 Std.\nleicht\n\n\n14. Nov.\nToelleturm – Ronsdorf\n12:15 Haltestelle Heidter Berg\n12:28 – Bus 640 Toelleturm\n2 Std.\nleicht\n\n\n12. Dez.\nKleine Wanderung & Weihnachtsfeier\n13:30 Busbahnhof Oberbarmen\n—\n1 Std.\nleicht
URL:https://hbv-wuppertal.de/termine/wanderung-2026/2026-05-09/
END:VEVENT
BEGIN:VEVENT
DTSTART;TZID=Europe/Berlin:20260613T120000
DTEND;TZID=Europe/Berlin:20260613T140000
DTSTAMP:20260420T044225
CREATED:20260305T182248Z
LAST-MODIFIED:20260305T183717Z
UID:10000065-1781352000-1781359200@hbv-wuppertal.de
SUMMARY:Wanderung 2026
DESCRIPTION:Wir laden herzlich ein! Wanderwetter ist fast immer!\nDie Teilnahme erfolgt auf eigene Gefahr! \n\n\n\nDatum\nWanderung\nTreffpunkt\nAbfahrt\nDauer\nProfil\n\n\n\n\n10. Jan.\nSambatrasse\n12:45 Bahnhof Oberbarmen\n12:56 – RE7 Hauptbahnhof\n2 Std.\nleicht\n\n\n14. Feb.\nRonsdorf – Klinik Bergisch Land\n12:15 Haltestelle Heidter Berg\n12:28 – Bus 640 Talsperrenstraße\n2 Std.\nleicht\n\n\n14. März\nRonsdorf – Gerstau\n12:15 Haltestelle Heidter Berg\n12:28 – Bus 640 Echoer Straße\n2 Std.\nleicht\n\n\n11. Apr.\nBeyenburg – Pumpenhaus\n12:30 Busbahnhof Oberbarmen\n12:46 – Bus 616\n2 Std.\nleicht\n\n\n09. Mai\nNeandertal\n12:00 Bahnhof Oberbarmen\n12:19 – S8 bis Gruiten\n2 Std.\nleicht\n\n\n13. Juni\nDahlhausen – Beyenburg\n12:00 Busbahnhof Oberbarmen\n12:16 – Bus 626 Dahlhausen\n2 Std.\nleicht\n\n\n11. Juli\nHildener Heide\n12:05 Bahnhof Oberbarmen\n12:18 – RE13 Vohwinkel / 12:41 Bus 784\n2 Std.\nleicht\n\n\n08. Aug.\nHahnenfurth – Düssel\n12:15 Bahnhof Oberbarmen\n12:38 – RB48 Vohwinkel / 13:07 Bus 745\n2 Std.\nleicht\n\n\n05. Sep.\nGrünental – Beyenburg\n12:00 Busbahnhof Oberbarmen\n12:16 – Bus 626 / 12:35 Bus 669\n2 Std.\nleicht\n\n\n10. Okt.\nSchaberg – Unterburg\n12:10 Bahnhof Oberbarmen\n12:22 – S7 Schaberg\n2 Std.\nleicht\n\n\n14. Nov.\nToelleturm – Ronsdorf\n12:15 Haltestelle Heidter Berg\n12:28 – Bus 640 Toelleturm\n2 Std.\nleicht\n\n\n12. Dez.\nKleine Wanderung & Weihnachtsfeier\n13:30 Busbahnhof Oberbarmen\n—\n1 Std.\nleicht
URL:https://hbv-wuppertal.de/termine/wanderung-2026/2026-06-13/
END:VEVENT
BEGIN:VEVENT
DTSTART;TZID=Europe/Berlin:20260711T120500
DTEND;TZID=Europe/Berlin:20260711T140500
DTSTAMP:20260420T044225
CREATED:20260305T182248Z
LAST-MODIFIED:20260305T183717Z
UID:10000066-1783771500-1783778700@hbv-wuppertal.de
SUMMARY:Wanderung 2026
DESCRIPTION:Wir laden herzlich ein! Wanderwetter ist fast immer!\nDie Teilnahme erfolgt auf eigene Gefahr! \n\n\n\nDatum\nWanderung\nTreffpunkt\nAbfahrt\nDauer\nProfil\n\n\n\n\n10. Jan.\nSambatrasse\n12:45 Bahnhof Oberbarmen\n12:56 – RE7 Hauptbahnhof\n2 Std.\nleicht\n\n\n14. Feb.\nRonsdorf – Klinik Bergisch Land\n12:15 Haltestelle Heidter Berg\n12:28 – Bus 640 Talsperrenstraße\n2 Std.\nleicht\n\n\n14. März\nRonsdorf – Gerstau\n12:15 Haltestelle Heidter Berg\n12:28 – Bus 640 Echoer Straße\n2 Std.\nleicht\n\n\n11. Apr.\nBeyenburg – Pumpenhaus\n12:30 Busbahnhof Oberbarmen\n12:46 – Bus 616\n2 Std.\nleicht\n\n\n09. Mai\nNeandertal\n12:00 Bahnhof Oberbarmen\n12:19 – S8 bis Gruiten\n2 Std.\nleicht\n\n\n13. Juni\nDahlhausen – Beyenburg\n12:00 Busbahnhof Oberbarmen\n12:16 – Bus 626 Dahlhausen\n2 Std.\nleicht\n\n\n11. Juli\nHildener Heide\n12:05 Bahnhof Oberbarmen\n12:18 – RE13 Vohwinkel / 12:41 Bus 784\n2 Std.\nleicht\n\n\n08. Aug.\nHahnenfurth – Düssel\n12:15 Bahnhof Oberbarmen\n12:38 – RB48 Vohwinkel / 13:07 Bus 745\n2 Std.\nleicht\n\n\n05. Sep.\nGrünental – Beyenburg\n12:00 Busbahnhof Oberbarmen\n12:16 – Bus 626 / 12:35 Bus 669\n2 Std.\nleicht\n\n\n10. Okt.\nSchaberg – Unterburg\n12:10 Bahnhof Oberbarmen\n12:22 – S7 Schaberg\n2 Std.\nleicht\n\n\n14. Nov.\nToelleturm – Ronsdorf\n12:15 Haltestelle Heidter Berg\n12:28 – Bus 640 Toelleturm\n2 Std.\nleicht\n\n\n12. Dez.\nKleine Wanderung & Weihnachtsfeier\n13:30 Busbahnhof Oberbarmen\n—\n1 Std.\nleicht
URL:https://hbv-wuppertal.de/termine/wanderung-2026/2026-07-11/
END:VEVENT
BEGIN:VEVENT
DTSTART;TZID=Europe/Berlin:20260808T121500
DTEND;TZID=Europe/Berlin:20260808T141500
DTSTAMP:20260420T044225
CREATED:20260305T182248Z
LAST-MODIFIED:20260305T183717Z
UID:10000067-1786191300-1786198500@hbv-wuppertal.de
SUMMARY:Wanderung 2026
DESCRIPTION:Wir laden herzlich ein! Wanderwetter ist fast immer!\nDie Teilnahme erfolgt auf eigene Gefahr! \n\n\n\nDatum\nWanderung\nTreffpunkt\nAbfahrt\nDauer\nProfil\n\n\n\n\n10. Jan.\nSambatrasse\n12:45 Bahnhof Oberbarmen\n12:56 – RE7 Hauptbahnhof\n2 Std.\nleicht\n\n\n14. Feb.\nRonsdorf – Klinik Bergisch Land\n12:15 Haltestelle Heidter Berg\n12:28 – Bus 640 Talsperrenstraße\n2 Std.\nleicht\n\n\n14. März\nRonsdorf – Gerstau\n12:15 Haltestelle Heidter Berg\n12:28 – Bus 640 Echoer Straße\n2 Std.\nleicht\n\n\n11. Apr.\nBeyenburg – Pumpenhaus\n12:30 Busbahnhof Oberbarmen\n12:46 – Bus 616\n2 Std.\nleicht\n\n\n09. Mai\nNeandertal\n12:00 Bahnhof Oberbarmen\n12:19 – S8 bis Gruiten\n2 Std.\nleicht\n\n\n13. Juni\nDahlhausen – Beyenburg\n12:00 Busbahnhof Oberbarmen\n12:16 – Bus 626 Dahlhausen\n2 Std.\nleicht\n\n\n11. Juli\nHildener Heide\n12:05 Bahnhof Oberbarmen\n12:18 – RE13 Vohwinkel / 12:41 Bus 784\n2 Std.\nleicht\n\n\n08. Aug.\nHahnenfurth – Düssel\n12:15 Bahnhof Oberbarmen\n12:38 – RB48 Vohwinkel / 13:07 Bus 745\n2 Std.\nleicht\n\n\n05. Sep.\nGrünental – Beyenburg\n12:00 Busbahnhof Oberbarmen\n12:16 – Bus 626 / 12:35 Bus 669\n2 Std.\nleicht\n\n\n10. Okt.\nSchaberg – Unterburg\n12:10 Bahnhof Oberbarmen\n12:22 – S7 Schaberg\n2 Std.\nleicht\n\n\n14. Nov.\nToelleturm – Ronsdorf\n12:15 Haltestelle Heidter Berg\n12:28 – Bus 640 Toelleturm\n2 Std.\nleicht\n\n\n12. Dez.\nKleine Wanderung & Weihnachtsfeier\n13:30 Busbahnhof Oberbarmen\n—\n1 Std.\nleicht
URL:https://hbv-wuppertal.de/termine/wanderung-2026/2026-08-08/
END:VEVENT
BEGIN:VEVENT
DTSTART;TZID=Europe/Berlin:20260905T120000
DTEND;TZID=Europe/Berlin:20260905T140000
DTSTAMP:20260420T044225
CREATED:20260305T182248Z
LAST-MODIFIED:20260305T183717Z
UID:10000068-1788609600-1788616800@hbv-wuppertal.de
SUMMARY:Wanderung 2026
DESCRIPTION:Wir laden herzlich ein! Wanderwetter ist fast immer!\nDie Teilnahme erfolgt auf eigene Gefahr! \n\n\n\nDatum\nWanderung\nTreffpunkt\nAbfahrt\nDauer\nProfil\n\n\n\n\n10. Jan.\nSambatrasse\n12:45 Bahnhof Oberbarmen\n12:56 – RE7 Hauptbahnhof\n2 Std.\nleicht\n\n\n14. Feb.\nRonsdorf – Klinik Bergisch Land\n12:15 Haltestelle Heidter Berg\n12:28 – Bus 640 Talsperrenstraße\n2 Std.\nleicht\n\n\n14. März\nRonsdorf – Gerstau\n12:15 Haltestelle Heidter Berg\n12:28 – Bus 640 Echoer Straße\n2 Std.\nleicht\n\n\n11. Apr.\nBeyenburg – Pumpenhaus\n12:30 Busbahnhof Oberbarmen\n12:46 – Bus 616\n2 Std.\nleicht\n\n\n09. Mai\nNeandertal\n12:00 Bahnhof Oberbarmen\n12:19 – S8 bis Gruiten\n2 Std.\nleicht\n\n\n13. Juni\nDahlhausen – Beyenburg\n12:00 Busbahnhof Oberbarmen\n12:16 – Bus 626 Dahlhausen\n2 Std.\nleicht\n\n\n11. Juli\nHildener Heide\n12:05 Bahnhof Oberbarmen\n12:18 – RE13 Vohwinkel / 12:41 Bus 784\n2 Std.\nleicht\n\n\n08. Aug.\nHahnenfurth – Düssel\n12:15 Bahnhof Oberbarmen\n12:38 – RB48 Vohwinkel / 13:07 Bus 745\n2 Std.\nleicht\n\n\n05. Sep.\nGrünental – Beyenburg\n12:00 Busbahnhof Oberbarmen\n12:16 – Bus 626 / 12:35 Bus 669\n2 Std.\nleicht\n\n\n10. Okt.\nSchaberg – Unterburg\n12:10 Bahnhof Oberbarmen\n12:22 – S7 Schaberg\n2 Std.\nleicht\n\n\n14. Nov.\nToelleturm – Ronsdorf\n12:15 Haltestelle Heidter Berg\n12:28 – Bus 640 Toelleturm\n2 Std.\nleicht\n\n\n12. Dez.\nKleine Wanderung & Weihnachtsfeier\n13:30 Busbahnhof Oberbarmen\n—\n1 Std.\nleicht
URL:https://hbv-wuppertal.de/termine/wanderung-2026/2026-09-05/
END:VEVENT
BEGIN:VEVENT
DTSTART;TZID=Europe/Berlin:20261010T121000
DTEND;TZID=Europe/Berlin:20261010T141000
DTSTAMP:20260420T044225
CREATED:20260305T182248Z
LAST-MODIFIED:20260305T183717Z
UID:10000069-1791634200-1791641400@hbv-wuppertal.de
SUMMARY:Wanderung 2026
DESCRIPTION:Wir laden herzlich ein! Wanderwetter ist fast immer!\nDie Teilnahme erfolgt auf eigene Gefahr! \n\n\n\nDatum\nWanderung\nTreffpunkt\nAbfahrt\nDauer\nProfil\n\n\n\n\n10. Jan.\nSambatrasse\n12:45 Bahnhof Oberbarmen\n12:56 – RE7 Hauptbahnhof\n2 Std.\nleicht\n\n\n14. Feb.\nRonsdorf – Klinik Bergisch Land\n12:15 Haltestelle Heidter Berg\n12:28 – Bus 640 Talsperrenstraße\n2 Std.\nleicht\n\n\n14. März\nRonsdorf – Gerstau\n12:15 Haltestelle Heidter Berg\n12:28 – Bus 640 Echoer Straße\n2 Std.\nleicht\n\n\n11. Apr.\nBeyenburg – Pumpenhaus\n12:30 Busbahnhof Oberbarmen\n12:46 – Bus 616\n2 Std.\nleicht\n\n\n09. Mai\nNeandertal\n12:00 Bahnhof Oberbarmen\n12:19 – S8 bis Gruiten\n2 Std.\nleicht\n\n\n13. Juni\nDahlhausen – Beyenburg\n12:00 Busbahnhof Oberbarmen\n12:16 – Bus 626 Dahlhausen\n2 Std.\nleicht\n\n\n11. Juli\nHildener Heide\n12:05 Bahnhof Oberbarmen\n12:18 – RE13 Vohwinkel / 12:41 Bus 784\n2 Std.\nleicht\n\n\n08. Aug.\nHahnenfurth – Düssel\n12:15 Bahnhof Oberbarmen\n12:38 – RB48 Vohwinkel / 13:07 Bus 745\n2 Std.\nleicht\n\n\n05. Sep.\nGrünental – Beyenburg\n12:00 Busbahnhof Oberbarmen\n12:16 – Bus 626 / 12:35 Bus 669\n2 Std.\nleicht\n\n\n10. Okt.\nSchaberg – Unterburg\n12:10 Bahnhof Oberbarmen\n12:22 – S7 Schaberg\n2 Std.\nleicht\n\n\n14. Nov.\nToelleturm – Ronsdorf\n12:15 Haltestelle Heidter Berg\n12:28 – Bus 640 Toelleturm\n2 Std.\nleicht\n\n\n12. Dez.\nKleine Wanderung & Weihnachtsfeier\n13:30 Busbahnhof Oberbarmen\n—\n1 Std.\nleicht
URL:https://hbv-wuppertal.de/termine/wanderung-2026/2026-10-10/
END:VEVENT
BEGIN:VEVENT
DTSTART;TZID=Europe/Berlin:20261114T121500
DTEND;TZID=Europe/Berlin:20261114T141500
DTSTAMP:20260420T044225
CREATED:20260305T182248Z
LAST-MODIFIED:20260305T183717Z
UID:10000070-1794658500-1794665700@hbv-wuppertal.de
SUMMARY:Wanderung 2026
DESCRIPTION:Wir laden herzlich ein! Wanderwetter ist fast immer!\nDie Teilnahme erfolgt auf eigene Gefahr! \n\n\n\nDatum\nWanderung\nTreffpunkt\nAbfahrt\nDauer\nProfil\n\n\n\n\n10. Jan.\nSambatrasse\n12:45 Bahnhof Oberbarmen\n12:56 – RE7 Hauptbahnhof\n2 Std.\nleicht\n\n\n14. Feb.\nRonsdorf – Klinik Bergisch Land\n12:15 Haltestelle Heidter Berg\n12:28 – Bus 640 Talsperrenstraße\n2 Std.\nleicht\n\n\n14. März\nRonsdorf – Gerstau\n12:15 Haltestelle Heidter Berg\n12:28 – Bus 640 Echoer Straße\n2 Std.\nleicht\n\n\n11. Apr.\nBeyenburg – Pumpenhaus\n12:30 Busbahnhof Oberbarmen\n12:46 – Bus 616\n2 Std.\nleicht\n\n\n09. Mai\nNeandertal\n12:00 Bahnhof Oberbarmen\n12:19 – S8 bis Gruiten\n2 Std.\nleicht\n\n\n13. Juni\nDahlhausen – Beyenburg\n12:00 Busbahnhof Oberbarmen\n12:16 – Bus 626 Dahlhausen\n2 Std.\nleicht\n\n\n11. Juli\nHildener Heide\n12:05 Bahnhof Oberbarmen\n12:18 – RE13 Vohwinkel / 12:41 Bus 784\n2 Std.\nleicht\n\n\n08. Aug.\nHahnenfurth – Düssel\n12:15 Bahnhof Oberbarmen\n12:38 – RB48 Vohwinkel / 13:07 Bus 745\n2 Std.\nleicht\n\n\n05. Sep.\nGrünental – Beyenburg\n12:00 Busbahnhof Oberbarmen\n12:16 – Bus 626 / 12:35 Bus 669\n2 Std.\nleicht\n\n\n10. Okt.\nSchaberg – Unterburg\n12:10 Bahnhof Oberbarmen\n12:22 – S7 Schaberg\n2 Std.\nleicht\n\n\n14. Nov.\nToelleturm – Ronsdorf\n12:15 Haltestelle Heidter Berg\n12:28 – Bus 640 Toelleturm\n2 Std.\nleicht\n\n\n12. Dez.\nKleine Wanderung & Weihnachtsfeier\n13:30 Busbahnhof Oberbarmen\n—\n1 Std.\nleicht
URL:https://hbv-wuppertal.de/termine/wanderung-2026/2026-11-14/
END:VEVENT
BEGIN:VEVENT
DTSTART;TZID=Europe/Berlin:20261212T133000
DTEND;TZID=Europe/Berlin:20261212T153000
DTSTAMP:20260420T044225
CREATED:20260305T182248Z
LAST-MODIFIED:20260305T183717Z
UID:10000071-1797082200-1797089400@hbv-wuppertal.de
SUMMARY:Wanderung 2026
DESCRIPTION:Wir laden herzlich ein! Wanderwetter ist fast immer!\nDie Teilnahme erfolgt auf eigene Gefahr! \n\n\n\nDatum\nWanderung\nTreffpunkt\nAbfahrt\nDauer\nProfil\n\n\n\n\n10. Jan.\nSambatrasse\n12:45 Bahnhof Oberbarmen\n12:56 – RE7 Hauptbahnhof\n2 Std.\nleicht\n\n\n14. Feb.\nRonsdorf – Klinik Bergisch Land\n12:15 Haltestelle Heidter Berg\n12:28 – Bus 640 Talsperrenstraße\n2 Std.\nleicht\n\n\n14. März\nRonsdorf – Gerstau\n12:15 Haltestelle Heidter Berg\n12:28 – Bus 640 Echoer Straße\n2 Std.\nleicht\n\n\n11. Apr.\nBeyenburg – Pumpenhaus\n12:30 Busbahnhof Oberbarmen\n12:46 – Bus 616\n2 Std.\nleicht\n\n\n09. Mai\nNeandertal\n12:00 Bahnhof Oberbarmen\n12:19 – S8 bis Gruiten\n2 Std.\nleicht\n\n\n13. Juni\nDahlhausen – Beyenburg\n12:00 Busbahnhof Oberbarmen\n12:16 – Bus 626 Dahlhausen\n2 Std.\nleicht\n\n\n11. Juli\nHildener Heide\n12:05 Bahnhof Oberbarmen\n12:18 – RE13 Vohwinkel / 12:41 Bus 784\n2 Std.\nleicht\n\n\n08. Aug.\nHahnenfurth – Düssel\n12:15 Bahnhof Oberbarmen\n12:38 – RB48 Vohwinkel / 13:07 Bus 745\n2 Std.\nleicht\n\n\n05. Sep.\nGrünental – Beyenburg\n12:00 Busbahnhof Oberbarmen\n12:16 – Bus 626 / 12:35 Bus 669\n2 Std.\nleicht\n\n\n10. Okt.\nSchaberg – Unterburg\n12:10 Bahnhof Oberbarmen\n12:22 – S7 Schaberg\n2 Std.\nleicht\n\n\n14. Nov.\nToelleturm – Ronsdorf\n12:15 Haltestelle Heidter Berg\n12:28 – Bus 640 Toelleturm\n2 Std.\nleicht\n\n\n12. Dez.\nKleine Wanderung & Weihnachtsfeier\n13:30 Busbahnhof Oberbarmen\n—\n1 Std.\nleicht
URL:https://hbv-wuppertal.de/termine/wanderung-2026/2026-12-12/
END:VEVENT
END:VCALENDAR